BEGIN:VCALENDAR
VERSION:2.0
PRODID:-//wp-events-plugin.com//7.2.1//EN
TZID:America/Los_Angeles
X-WR-TIMEZONE:America/Los_Angeles
BEGIN:VEVENT
UID:946@riversidecountydemocrats.org
DTSTART;TZID=America/Los_Angeles:20260319T183000
DTEND;TZID=America/Los_Angeles:20260319T200000
DTSTAMP:20250827T233209Z
URL:https://www.riversidecountydemocrats.org/events/democratic-women-of-th
 e-desert-2026-03-19/
SUMMARY:Democratic Women of the Desert
DESCRIPTION:For event details please visit www.democraticwomenofthedesert.o
 rg or email democraticwomenofthedesert@gmail.com.
CATEGORIES:Club Meetings &amp; Events
END:VEVENT
BEGIN:VTIMEZONE
TZID:America/Los_Angeles
X-LIC-LOCATION:America/Los_Angeles
BEGIN:DAYLIGHT
DTSTART:20260308T030000
TZOFFSETFROM:-0800
TZOFFSETTO:-0700
TZNAME:PDT
END:DAYLIGHT
END:VTIMEZONE
END:VCALENDAR