BEGIN:VCALENDAR
VERSION:2.0
PRODID:-//wp-events-plugin.com//7.2.1//EN
TZID:America/Los_Angeles
X-WR-TIMEZONE:America/Los_Angeles
BEGIN:VEVENT
UID:1387@riversidecountydemocrats.org
DTSTART;TZID=America/Los_Angeles:20250410T190000
DTEND;TZID=America/Los_Angeles:20250410T203000
DTSTAMP:20250827T233412Z
URL:https://www.riversidecountydemocrats.org/events/democrats-of-hemet-san
 -jacinto-2025-01-09-2025-02-13-2025-03-13-2025-04-10/
SUMMARY:Democrats of Hemet - San Jacinto
DESCRIPTION:For meeting details please email MTYFN@aol.com.
CATEGORIES:Club Meetings &amp; Events
END:VEVENT
BEGIN:VTIMEZONE
TZID:America/Los_Angeles
X-LIC-LOCATION:America/Los_Angeles
BEGIN:DAYLIGHT
DTSTART:20250309T030000
TZOFFSETFROM:-0800
TZOFFSETTO:-0700
TZNAME:PDT
END:DAYLIGHT
END:VTIMEZONE
END:VCALENDAR