BEGIN:VCALENDAR
VERSION:2.0
PRODID:-//wp-events-plugin.com//7.2.1//EN
TZID:America/Los_Angeles
X-WR-TIMEZONE:America/Los_Angeles
BEGIN:VEVENT
UID:1324@riversidecountydemocrats.org
DTSTART;TZID=America/Los_Angeles:20261021T190000
DTEND;TZID=America/Los_Angeles:20261021T210000
DTSTAMP:20250827T232550Z
URL:https://www.riversidecountydemocrats.org/events/dgr-monthly-membership
 -meeting-2025-01-15-2025-02-19-2025-03-19-2026-02-18-2026-03-18-2026-04-15
 -2026-05-20-2026-06-17-2026-07-15-2026-08-19-2026-09-16-2026-10-21/
SUMMARY:DGR Monthly Membership Meeting
DESCRIPTION:Open to all Democrats. Arrive no later than 6:15 pm if you want
  to order food (and we hope you do) so it will be served prior to the meet
 ing. Meetings are hybrid. For Zoom Link\, contact Communications@democrats
 ofgreaterriverside.com
CATEGORIES:Club Meetings &amp; Events
LOCATION:Mariposas Restaurant\, 1690 Spruce Street\, Riverside\, CA\, 92508
 \, United States
X-APPLE-STRUCTURED-LOCATION;VALUE=URI;X-ADDRESS=1690 Spruce Street\, Rivers
 ide\, CA\, 92508\, United States;X-APPLE-RADIUS=100;X-TITLE=Mariposas Rest
 aurant:geo:0,0
END:VEVENT
BEGIN:VTIMEZONE
TZID:America/Los_Angeles
X-LIC-LOCATION:America/Los_Angeles
BEGIN:DAYLIGHT
DTSTART:20260308T030000
TZOFFSETFROM:-0800
TZOFFSETTO:-0700
TZNAME:PDT
END:DAYLIGHT
END:VTIMEZONE
END:VCALENDAR