BEGIN:VCALENDAR
VERSION:2.0
PRODID:-//wp-events-plugin.com//7.2.1//EN
TZID:America/Los_Angeles
X-WR-TIMEZONE:America/Los_Angeles
BEGIN:VEVENT
UID:217@riversidecountydemocrats.org
DTSTART;TZID=America/Los_Angeles:20261012T183000
DTEND;TZID=America/Los_Angeles:20261012T203000
DTSTAMP:20250827T231847Z
URL:https://www.riversidecountydemocrats.org/events/general-membership-mee
 ting-2-2026-10-12/
SUMMARY:General Membership Meeting
DESCRIPTION:
CATEGORIES:RCDP General Meeting
END:VEVENT
BEGIN:VTIMEZONE
TZID:America/Los_Angeles
X-LIC-LOCATION:America/Los_Angeles
BEGIN:DAYLIGHT
DTSTART:20260308T030000
TZOFFSETFROM:-0800
TZOFFSETTO:-0700
TZNAME:PDT
END:DAYLIGHT
END:VTIMEZONE
END:VCALENDAR