BEGIN:VCALENDAR
VERSION:2.0
PRODID:-//wp-events-plugin.com//7.2.1//EN
TZID:America/Los_Angeles
X-WR-TIMEZONE:America/Los_Angeles
BEGIN:VEVENT
UID:89@riversidecountydemocrats.org
DTSTART;TZID=America/Los_Angeles:20250115T170000
DTEND;TZID=America/Los_Angeles:20250115T190000
DTSTAMP:20240913T182201Z
URL:https://www.riversidecountydemocrats.org/events/legislative-committee-
 meeting-2-2025-01-15/
SUMMARY:Legislative Committee Meeting
DESCRIPTION:
CATEGORIES:RCDP Standing Committee Meetings
LOCATION:https://us06web.zoom.us/meeting/register/tZcqceuuqj4rHdbxT2zBLJa6_
 6RX62EZwOoF
END:VEVENT
BEGIN:VTIMEZONE
TZID:America/Los_Angeles
X-LIC-LOCATION:America/Los_Angeles
BEGIN:STANDARD
DTSTART:20241103T010000
TZOFFSETFROM:-0700
TZOFFSETTO:-0800
TZNAME:PST
END:STANDARD
END:VTIMEZONE
END:VCALENDAR