BEGIN:VCALENDAR
VERSION:2.0
PRODID:-//wp-events-plugin.com//7.2.1//EN
TZID:America/Los_Angeles
X-WR-TIMEZONE:America/Los_Angeles
BEGIN:VEVENT
UID:1269@riversidecountydemocrats.org
DTSTART;TZID=America/Los_Angeles:20260624T183000
DTEND;TZID=America/Los_Angeles:20260624T200000
DTSTAMP:20250906T215408Z
URL:https://www.riversidecountydemocrats.org/events/neighbor-2-neighbor-me
 eting-evening-session-2026-06-24/
SUMMARY:N2N Meeting: Evening Session
DESCRIPTION:\n\n&nbsp\;\n\n&nbsp\;\n\nJoin Michael Finland\, RCDP’s N2N C
 hair\, and the Political Action Team for the latest updates\, training\, a
 nd next steps for all N2N Representatives\n\nRegister for the 6:30pm sessi
 on HERE.
CATEGORIES:Volunteer Calendar
LOCATION:https://us06web.zoom.us/meeting/register/AA4wwyZ4S8KDdoKriZTqvg
END:VEVENT
BEGIN:VTIMEZONE
TZID:America/Los_Angeles
X-LIC-LOCATION:America/Los_Angeles
BEGIN:DAYLIGHT
DTSTART:20260308T030000
TZOFFSETFROM:-0800
TZOFFSETTO:-0700
TZNAME:PDT
END:DAYLIGHT
END:VTIMEZONE
END:VCALENDAR