BEGIN:VCALENDAR
VERSION:2.0
PRODID:-//wp-events-plugin.com//7.2.1//EN
TZID:America/Los_Angeles
X-WR-TIMEZONE:America/Los_Angeles
BEGIN:VEVENT
UID:427@riversidecountydemocrats.org
DTSTART;TZID=America/Los_Angeles:20261020T190000
DTEND;TZID=America/Los_Angeles:20261020T203000
DTSTAMP:20250827T232024Z
URL:https://www.riversidecountydemocrats.org/events/pac-meeting-2026-10-20
 /
SUMMARY:Political Action Committee Meeting
DESCRIPTION:
CATEGORIES:RCDP Standing Committee Meetings
LOCATION:https://us06web.zoom.us/meeting/register/fauzLoYYR_WW3wB_rJugjg
END:VEVENT
BEGIN:VTIMEZONE
TZID:America/Los_Angeles
X-LIC-LOCATION:America/Los_Angeles
BEGIN:DAYLIGHT
DTSTART:20260308T030000
TZOFFSETFROM:-0800
TZOFFSETTO:-0700
TZNAME:PDT
END:DAYLIGHT
END:VTIMEZONE
END:VCALENDAR