BEGIN:VCALENDAR
VERSION:2.0
PRODID:-//wp-events-plugin.com//7.2.1//EN
TZID:America/Los_Angeles
X-WR-TIMEZONE:America/Los_Angeles
BEGIN:VEVENT
UID:20@riversidecountydemocrats.org
DTSTART;TZID=America/Los_Angeles:20240904T183000
DTEND;TZID=America/Los_Angeles:20240904T193000
DTSTAMP:20240904T231148Z
URL:https://www.riversidecountydemocrats.org/events/special-executive-boar
 d-meeting/
SUMMARY:Special Executive Board Meeting
DESCRIPTION:
CATEGORIES:RCDP Executive Board Meeting
LOCATION:https://us06web.zoom.us/meeting/register/tZclduurqzsvEtQia6-xJ6R_P
 eQXQJlMbeku#/registration
END:VEVENT
BEGIN:VTIMEZONE
TZID:America/Los_Angeles
X-LIC-LOCATION:America/Los_Angeles
BEGIN:DAYLIGHT
DTSTART:20240310T030000
TZOFFSETFROM:-0800
TZOFFSETTO:-0700
TZNAME:PDT
END:DAYLIGHT
END:VTIMEZONE
END:VCALENDAR