BEGIN:VCALENDAR
VERSION:2.0
PRODID:-//wp-events-plugin.com//7.2.1//EN
TZID:America/Los_Angeles
X-WR-TIMEZONE:America/Los_Angeles
BEGIN:VEVENT
UID:1180@riversidecountydemocrats.org
DTSTART;TZID=America/Los_Angeles:20261027T180000
DTEND;TZID=America/Los_Angeles:20261027T193000
DTSTAMP:20250827T233435Z
URL:https://www.riversidecountydemocrats.org/events/texting-tuesdays-every
 -4th-tuesday-2026-10-27/
SUMMARY:Texting Tuesdays (every 4th Tuesday)
DESCRIPTION:Join fellow Neighbor 2 Neighbor Reps and volunteers as we text 
 the Democrats in our community.\n\nTexting Tuesdays provide Neighborhood R
 eps with step-by-step training on how to use Outreach Circle. This is a gr
 eat tool for keeping in contact with the Democrats in your neighborhood. N
 ew texts are uploaded monthly with the ability for customization.\nGet rea
 dy for Texting Tuesday by downloading and learning how to use the Outreach
  Circle app: https://www.riversidecountydemocrats.org/texting-tuesdays/.\
 n\n&nbsp\;
CATEGORIES:Volunteer Calendar
LOCATION:https://us06web.zoom.us/meeting/register/spwvkX1BSuyA1tAARq2TzQ
END:VEVENT
BEGIN:VTIMEZONE
TZID:America/Los_Angeles
X-LIC-LOCATION:America/Los_Angeles
BEGIN:DAYLIGHT
DTSTART:20260308T030000
TZOFFSETFROM:-0800
TZOFFSETTO:-0700
TZNAME:PDT
END:DAYLIGHT
END:VTIMEZONE
END:VCALENDAR